BEGIN:VCALENDAR
VERSION:2.0
PRODID:-//Sandridge Golf Club - Dunes Course - ECPv6.15.18//NONSGML v1.0//EN
CALSCALE:GREGORIAN
METHOD:PUBLISH
X-WR-CALNAME:Sandridge Golf Club - Dunes Course
X-ORIGINAL-URL:https://www.sandridgegc.com
X-WR-CALDESC:Events for Sandridge Golf Club - Dunes Course
REFRESH-INTERVAL;VALUE=DURATION:PT1H
X-Robots-Tag:noindex
X-PUBLISHED-TTL:PT1H
BEGIN:VTIMEZONE
TZID:America/New_York
BEGIN:DAYLIGHT
TZOFFSETFROM:-0500
TZOFFSETTO:-0400
TZNAME:EDT
DTSTART:20250309T070000
END:DAYLIGHT
BEGIN:STANDARD
TZOFFSETFROM:-0400
TZOFFSETTO:-0500
TZNAME:EST
DTSTART:20251102T060000
END:STANDARD
BEGIN:DAYLIGHT
TZOFFSETFROM:-0500
TZOFFSETTO:-0400
TZNAME:EDT
DTSTART:20260308T070000
END:DAYLIGHT
BEGIN:STANDARD
TZOFFSETFROM:-0400
TZOFFSETTO:-0500
TZNAME:EST
DTSTART:20261101T060000
END:STANDARD
BEGIN:DAYLIGHT
TZOFFSETFROM:-0500
TZOFFSETTO:-0400
TZNAME:EDT
DTSTART:20270314T070000
END:DAYLIGHT
BEGIN:STANDARD
TZOFFSETFROM:-0400
TZOFFSETTO:-0500
TZNAME:EST
DTSTART:20271107T060000
END:STANDARD
END:VTIMEZONE
BEGIN:VEVENT
DTSTART;VALUE=DATE:20260131
DTEND;VALUE=DATE:20260201
DTSTAMP:20260421T210622
CREATED:20251229T132347Z
LAST-MODIFIED:20251229T132403Z
UID:10000015-1769817600-1769903999@www.sandridgegc.com
SUMMARY:2026 Herb Schubert Golf Tournament
DESCRIPTION:Register Here
URL:https://www.sandridgegc.com/event/2026-herb-schubert-golf-tournament/
ATTACH;FMTTYPE=image/png:https://www.sandridgegc.com/wp-content/uploads/sites/9026/2025/12/2026-Herb-Schubert-1.png
END:VEVENT
BEGIN:VEVENT
DTSTART;TZID=America/New_York:20260606T080000
DTEND;TZID=America/New_York:20260606T080000
DTSTAMP:20260421T210622
CREATED:20260406T144511Z
LAST-MODIFIED:20260406T144622Z
UID:10000016-1780732800-1780732800@www.sandridgegc.com
SUMMARY:2026 Summer Team Championship
DESCRIPTION:Click To Register
URL:https://www.sandridgegc.com/event/2026-summer-team-championship/
END:VEVENT
BEGIN:VEVENT
DTSTART;TZID=America/New_York:20260704T080000
DTEND;TZID=America/New_York:20260704T080000
DTSTAMP:20260421T210622
CREATED:20260406T144909Z
LAST-MODIFIED:20260406T145325Z
UID:10000017-1783152000-1783152000@www.sandridgegc.com
SUMMARY:2026 Red\, White & Blue Golf Tournament
DESCRIPTION:Click to Register
URL:https://www.sandridgegc.com/event/2026-red-white-blue-golf-tournament/
END:VEVENT
END:VCALENDAR